BEGIN:VCALENDAR
VERSION:2.0
PRODID:-//217.160.0.130//NONSGML kigkonsult.se iCalcreator 2.20//
CALSCALE:GREGORIAN
METHOD:PUBLISH
X-WR-TIMEZONE:Europe/Berlin
BEGIN:VEVENT
UID:event315@TV 1889 Zuffenhausen e.V.
DTSTAMP:20260420T083414Z
CATEGORIES:Freizeit-Kicker
DESCRIPTION:Freizeit - Kick am Sonntag Morgen\nKategorie: Freizeit-Kicker\n
 ICS-Link: https://tv1889zuffenhausen.de/go/index.php?option=com_jem&view=e
 vent&id=315:freizeit-kick-am-sonntag-morgen\n
DTSTART;TZID=Europe/Berlin:20260426T100000
DTEND;TZID=Europe/Berlin:20260426T120000
LOCATION:Kunstrasenplatz TV89\,Lange Allee 11\,70435 Stuttgart\,Germany
SUMMARY:Freizeit - Kick am Sonntag Morgen
URL:https://tv1889zuffenhausen.de/go/index.php?option=com_jem&view=event&id
 =315:freizeit-kick-am-sonntag-morgen
END:VEVENT
END:VCALENDAR